BEGIN:VCALENDAR
VERSION:2.0
PRODID:-//Tukios.com/
BEGIN:VEVENT
UID:db0d9a7b-2862-431d-9fdf-8a29e0bf0695@www.ellisvillefuneralhome.com
DTSTAMP:20260425T004916Z
DTSTART:20260427T190000Z
DTEND:20260427T200000Z
SUMMARY:Graveside Service
DESCRIPTION:
URL:https://www.ellisvillefuneralhome.com/obituaries/wanda-conn
LOCATION:Hickory Grove Cemetery 15th Street  Laurel MS 39440
GEO:31.7077556;-89.1373229
END:VEVENT
END:VCALENDAR