BEGIN:VCALENDAR
VERSION:2.0
PRODID:-//Tukios.com/
BEGIN:VEVENT
UID:e61d2674-07b1-4bf8-b395-3d8a0e668b66@www.ellisvillefuneralhome.com
DTSTAMP:20260425T004300Z
DTSTART:20260427T170000Z
DTEND:20260427T190000Z
SUMMARY:Visitation
DESCRIPTION:
URL:https://www.ellisvillefuneralhome.com/obituaries/wanda-conn
LOCATION: 1204 B Avenue  Ellisville MS 39437
GEO:31.6106046;-89.2080725
END:VEVENT
END:VCALENDAR