BEGIN:VCALENDAR
VERSION:2.0
PRODID:-//Tukios.com/
BEGIN:VEVENT
UID:30750d23-3d23-450c-bbe3-cdbe91a8c543@www.ellisvillefuneralhome.com
DTSTAMP:20260423T230621Z
DTSTART:20260425T190000Z
DTEND:20260425T200000Z
SUMMARY:Graveside Service
DESCRIPTION:
URL:https://www.ellisvillefuneralhome.com/obituaries/dwight-smith
LOCATION:West Salem Baptist Church Cemetery 2334 West Salem Road  Richton 
	MS 39476
GEO:31.4220579;-88.6786354
END:VEVENT
END:VCALENDAR