BEGIN:VCALENDAR
VERSION:2.0
PRODID:-//Tukios.com/
BEGIN:VEVENT
UID:e8c0b64f-fcf5-4436-a570-049fb8839d34@www.ellisvillefuneralhome.com
DTSTAMP:20260423T230131Z
DTSTART:20260425T163000Z
DTEND:20260425T173000Z
SUMMARY:Funeral Service
DESCRIPTION:
URL:https://www.ellisvillefuneralhome.com/obituaries/dwight-smith
LOCATION: 1108 B Avenue  Ellisville MS 39437
GEO:31.6104176;-89.2065975
END:VEVENT
END:VCALENDAR