BEGIN:VCALENDAR
VERSION:2.0
PRODID:-//Tukios.com/
BEGIN:VEVENT
UID:f37bc8b9-aacf-4f56-b999-f25f047b4ef9@www.ellisvillefuneralhome.com
DTSTAMP:20260423T230620Z
DTSTART:20260425T140000Z
DTEND:20260425T163000Z
SUMMARY:Visitation
DESCRIPTION:
URL:https://www.ellisvillefuneralhome.com/obituaries/dwight-smith
LOCATION: 1108 B Avenue  Ellisville MS 39437
GEO:31.6104176;-89.2065975
END:VEVENT
END:VCALENDAR