BEGIN:VCALENDAR
VERSION:2.0
PRODID:-//Tukios.com/
BEGIN:VEVENT
UID:10400cfd-3248-40db-9016-c668bb7c2965@www.ellisvillefuneralhome.com
DTSTAMP:20260423T230833Z
DTSTART:20260424T160000Z
DTEND:20260424T170000Z
SUMMARY:Funeral Service
DESCRIPTION:
URL:https://www.ellisvillefuneralhome.com/obituaries/alissa-robinson
LOCATION:Ellisville Funeral Home 1204 B Avenue  Ellisville MS 39437
GEO:31.6106046;-89.2080725
END:VEVENT
END:VCALENDAR